BEGIN:VCALENDAR
VERSION:2.0
PRODID:-//sturge-weber.org//NONSGML kigkonsult.se iCalcreator 2.30.10//
CALSCALE:GREGORIAN
METHOD:PUBLISH
UID:fcc5a4d8-4fd3-4838-beca-02161a4be785
X-WR-CALDESC:
X-WR-RELCALID:b7fa8ba807ddc322a693fbe3404294f7
X-WR-TIMEZONE:America/New_York
BEGIN:VTIMEZONE
TZID:America/New_York
BEGIN:STANDARD
TZNAME:EST
DTSTART:20231105T020000
TZOFFSETFROM:-0400
TZOFFSETTO:-0500
RDATE:20241103T020000
END:STANDARD
BEGIN:DAYLIGHT
TZNAME:EDT
DTSTART:20230312T020000
TZOFFSETFROM:-0500
TZOFFSETTO:-0400
RDATE:20240310T020000
RDATE:20250309T020000
END:DAYLIGHT
END:VTIMEZONE
BEGIN:VEVENT
UID:43f8d3a3-4e5f-487b-9fa3-b4153cb92bf0
DTSTAMP:20260425T181312Z
DESCRIPTION:
DTSTART;TZID=America/New_York:20231206T190000
DTEND;TZID=America/New_York:20231206T203000
LOCATION:https://sturge-weber.org/events/town-hall-with-karen.html
SUMMARY:Town Hall with Karen
END:VEVENT
END:VCALENDAR
