BEGIN:VCALENDAR
VERSION:2.0
PRODID:-//sturge-weber.org//NONSGML kigkonsult.se iCalcreator 2.30.10//
CALSCALE:GREGORIAN
METHOD:PUBLISH
UID:b8f3c81e-b6a2-4f0c-a099-c2335c23de96
X-WR-CALDESC:
X-WR-RELCALID:88bf1013023083b74fa342a1a71cc62d
X-WR-TIMEZONE:America/New_York
BEGIN:VTIMEZONE
TZID:America/New_York
BEGIN:STANDARD
TZNAME:EST
DTSTART:20231105T020000
TZOFFSETFROM:-0400
TZOFFSETTO:-0500
RDATE:20241103T020000
END:STANDARD
BEGIN:DAYLIGHT
TZNAME:EDT
DTSTART:20230312T020000
TZOFFSETFROM:-0500
TZOFFSETTO:-0400
RDATE:20240310T020000
RDATE:20250309T020000
END:DAYLIGHT
END:VTIMEZONE
BEGIN:VEVENT
UID:14a8f947-a98d-469f-a754-cb2a84e0463d
DTSTAMP:20260425T180955Z
DESCRIPTION:
DTSTART;TZID=America/New_York:20231228T200000
DTEND;TZID=America/New_York:20231228T210000
LOCATION:https://sturge-weber.org/events/caregivers-chat.html
SUMMARY:SWS Caregiver Year-End Chat
END:VEVENT
END:VCALENDAR
