BEGIN:VCALENDAR
VERSION:2.0
PRODID:-//sturge-weber.org//NONSGML kigkonsult.se iCalcreator 2.30.10//
CALSCALE:GREGORIAN
METHOD:PUBLISH
UID:01d96560-fc27-4d29-8cd3-8fa7416962f2
X-WR-CALDESC:'Ask the Experts' Q & A Series will feature doctors specializi
 ng in Neurology\, Dermatology\, Migraines\, Mental Health\, and Ophthalmol
 ogy throughout the year. \n\nSaturday\, Feb. 10\, 2024\n12:00 pm - 1:00 pm
  (EST)\n\nThis event is for Q & A only. There will be no lectures so\, get
  ready to ask our Neurologists anything!
X-WR-RELCALID:9b7278cd5b50db2582701bf74b6720f3
X-WR-TIMEZONE:America/New_York
BEGIN:VTIMEZONE
TZID:America/New_York
BEGIN:STANDARD
TZNAME:EST
DTSTART:20231105T020000
TZOFFSETFROM:-0400
TZOFFSETTO:-0500
RDATE:20241103T020000
END:STANDARD
BEGIN:DAYLIGHT
TZNAME:EDT
DTSTART:20230312T020000
TZOFFSETFROM:-0500
TZOFFSETTO:-0400
RDATE:20240310T020000
RDATE:20250309T020000
END:DAYLIGHT
END:VTIMEZONE
BEGIN:VEVENT
UID:ee1e051a-8286-4ed6-876b-6bf939000351
DTSTAMP:20260425T144311Z
DESCRIPTION:'Ask the Experts' Q & A Series will feature doctors specializin
 g in Neurology\, Dermatology\, Migraines\, Mental Health\, and Ophthalmolo
 gy throughout the year. \n\nSaturday\, Feb. 10\, 2024\n12:00 pm - 1:00 pm 
 (EST)\n\nThis event is for Q & A only. There will be no lectures so\, get 
 ready to ask our Neurologists anything!
DTSTART;TZID=America/New_York:20240210T120000
DTEND;TZID=America/New_York:20240210T130000
LOCATION:
SUMMARY:Ask the Experts - Neurology
END:VEVENT
END:VCALENDAR
