BEGIN:VCALENDAR
VERSION:2.0
PRODID:-//sturge-weber.org//NONSGML kigkonsult.se iCalcreator 2.30.10//
CALSCALE:GREGORIAN
METHOD:PUBLISH
UID:0fc85500-9fde-40a0-96dd-0b4b00754600
X-WR-CALDESC:These chats are virtual and are an opportunity to meet other a
 dults and teens with SWS\, KTS\, and PWB.\nRegister below and we will send
  you the Zoom link details a few days before the event. We hope to see you
  there!
X-WR-RELCALID:0c00837c267b9d85c123577e2b1d73d9
X-WR-TIMEZONE:America/New_York
BEGIN:VTIMEZONE
TZID:America/New_York
BEGIN:STANDARD
TZNAME:EST
DTSTART:20231105T020000
TZOFFSETFROM:-0400
TZOFFSETTO:-0500
RDATE:20241103T020000
END:STANDARD
BEGIN:DAYLIGHT
TZNAME:EDT
DTSTART:20230312T020000
TZOFFSETFROM:-0500
TZOFFSETTO:-0400
RDATE:20240310T020000
RDATE:20250309T020000
END:DAYLIGHT
END:VTIMEZONE
BEGIN:VEVENT
UID:08c69614-8a79-40ce-95db-01e6a402f483
DTSTAMP:20260425T143827Z
DESCRIPTION:These chats are virtual and are an opportunity to meet other ad
 ults and teens with SWS\, KTS\, and PWB.\nRegister below and we will send 
 you the Zoom link details a few days before the event. We hope to see you 
 there!
DTSTART;TZID=America/New_York:20240229T190000
DTEND;TZID=America/New_York:20240229T210000
LOCATION:
SUMMARY:Adult and Teen Chat
END:VEVENT
END:VCALENDAR
