BEGIN:VCALENDAR
VERSION:2.0
PRODID:-//sturge-weber.org//NONSGML kigkonsult.se iCalcreator 2.30.10//
CALSCALE:GREGORIAN
METHOD:PUBLISH
UID:2890a101-c926-4ab0-af35-9b282e362cfa
X-WR-CALDESC:Let's raise awareness and generate change for the 300 million 
 people worldwide living with a rare disease\, their families\, and caregiv
 ers.
X-WR-RELCALID:f075bab8ff2dab9d32b0cc8a63fdeaeb
X-WR-TIMEZONE:America/New_York
BEGIN:VTIMEZONE
TZID:America/New_York
BEGIN:STANDARD
TZNAME:EST
DTSTART:20231105T020000
TZOFFSETFROM:-0400
TZOFFSETTO:-0500
RDATE:20241103T020000
END:STANDARD
BEGIN:DAYLIGHT
TZNAME:EDT
DTSTART:20230312T020000
TZOFFSETFROM:-0500
TZOFFSETTO:-0400
RDATE:20240310T020000
RDATE:20250309T020000
END:DAYLIGHT
END:VTIMEZONE
BEGIN:VEVENT
UID:7f117f8d-c5d3-4908-bc41-0c02f877d844
DTSTAMP:20260425T144137Z
DESCRIPTION:Let's raise awareness and generate change for the 300 million p
 eople worldwide living with a rare disease\, their families\, and caregive
 rs.
DTSTART;TZID=America/New_York:20240229T060000
DTEND;TZID=America/New_York:20240229T060001
LOCATION:
SUMMARY:Rare Disease Day 2024 - Resources
END:VEVENT
END:VCALENDAR
