BEGIN:VCALENDAR
VERSION:2.0
PRODID:-//sturge-weber.org//NONSGML kigkonsult.se iCalcreator 2.30.10//
CALSCALE:GREGORIAN
METHOD:PUBLISH
UID:7145ae6f-5b76-4d6e-8360-f9a8250030b1
X-WR-CALDESC:The SWF would like to invite patients and caregivers to our De
 rmatology Roundtable.
X-WR-RELCALID:1260b2b25d44e5c58969e35a5a32e99f
X-WR-TIMEZONE:America/New_York
BEGIN:VTIMEZONE
TZID:America/New_York
BEGIN:STANDARD
TZNAME:EST
DTSTART:20231105T020000
TZOFFSETFROM:-0400
TZOFFSETTO:-0500
RDATE:20241103T020000
RDATE:20251102T020000
END:STANDARD
BEGIN:DAYLIGHT
TZNAME:EDT
DTSTART:20240310T020000
TZOFFSETFROM:-0500
TZOFFSETTO:-0400
RDATE:20250309T020000
RDATE:20260308T020000
END:DAYLIGHT
END:VTIMEZONE
BEGIN:VEVENT
UID:c97ea720-5280-48cf-a3a9-65d8ec2ca4aa
DTSTAMP:20260425T012949Z
DESCRIPTION:The SWF would like to invite patients and caregivers to our Der
 matology Roundtable.
DTSTART;TZID=America/New_York:20240914T120000
DTEND;TZID=America/New_York:20240914T130000
LOCATION:https://sturge-weber.org/events/ask-the-experts-series.html
SUMMARY:Ask the Experts - Dermatology
END:VEVENT
END:VCALENDAR
