BEGIN:VCALENDAR
VERSION:2.0
PRODID:-//sturge-weber.org//NONSGML kigkonsult.se iCalcreator 2.30.10//
CALSCALE:GREGORIAN
METHOD:PUBLISH
UID:2d562ed7-0fbc-4bff-8fd4-91da59135f3b
X-WR-CALDESC:
X-WR-RELCALID:88b2db0b779d4cca1602f2fa8cbb7443
X-WR-TIMEZONE:America/Los_Angeles
BEGIN:VTIMEZONE
TZID:America/Los_Angeles
BEGIN:STANDARD
TZNAME:PST
DTSTART:20231105T020000
TZOFFSETFROM:-0700
TZOFFSETTO:-0800
RDATE:20241103T020000
RDATE:20251102T020000
END:STANDARD
BEGIN:DAYLIGHT
TZNAME:PDT
DTSTART:20240310T020000
TZOFFSETFROM:-0800
TZOFFSETTO:-0700
RDATE:20250309T020000
RDATE:20260308T020000
END:DAYLIGHT
END:VTIMEZONE
BEGIN:VEVENT
UID:a5845d8a-77ec-4835-9a08-b9a010de3b2d
DTSTAMP:20260424T232702Z
DESCRIPTION:
DTSTART;TZID=America/Los_Angeles:20241004T153000
DTEND;TZID=America/Los_Angeles:20241004T173000
LOCATION:
SUMMARY:UC Irvine Mini-Summit
END:VEVENT
END:VCALENDAR
