BEGIN:VCALENDAR
VERSION:2.0
PRODID:-//sturge-weber.org//NONSGML kigkonsult.se iCalcreator 2.30.10//
CALSCALE:GREGORIAN
METHOD:PUBLISH
UID:cc4b1988-7090-454b-9737-fc581ecddded
X-WR-CALDESC:The SWF would like to invite patients and caregivers to our vi
 rtual Neurology Roundtable.
X-WR-RELCALID:4bd687432cb6d6152f4a34d400f021c0
X-WR-TIMEZONE:America/New_York
BEGIN:VTIMEZONE
TZID:America/New_York
BEGIN:STANDARD
TZNAME:EST
DTSTART:20231105T020000
TZOFFSETFROM:-0400
TZOFFSETTO:-0500
RDATE:20241103T020000
RDATE:20251102T020000
END:STANDARD
BEGIN:DAYLIGHT
TZNAME:EDT
DTSTART:20240310T020000
TZOFFSETFROM:-0500
TZOFFSETTO:-0400
RDATE:20250309T020000
RDATE:20260308T020000
END:DAYLIGHT
END:VTIMEZONE
BEGIN:VEVENT
UID:33e0bdbd-b2fa-45aa-8d6f-1e76f9c405ba
DTSTAMP:20260424T232131Z
DESCRIPTION:The SWF would like to invite patients and caregivers to our vir
 tual Neurology Roundtable.
DTSTART;TZID=America/New_York:20241012T120000
DTEND;TZID=America/New_York:20241012T130000
LOCATION:https://sturge-weber.org/events/ask-the-experts-series.html
SUMMARY:Ask the Experts: Neurology
END:VEVENT
END:VCALENDAR
