BEGIN:VCALENDAR
VERSION:2.0
PRODID:-//sturge-weber.org//NONSGML kigkonsult.se iCalcreator 2.30.10//
CALSCALE:GREGORIAN
METHOD:PUBLISH
UID:92ca1919-c12f-4b97-995b-34b388901ad8
X-WR-CALDESC:Join us for an informative interview-style chat with SWS Visio
 naries.\n\nIf you ever wondered how research works\, this is your chance t
 o hear it from two esteemed researchers. Dr. Doug Marchuk and Dr. Kristen 
 Kelly will discuss the process of developing new research on Sturge-Weber 
 and Port-Wine Birthmarks\, highlighting how many researchers collaborate f
 or a greater cause.
X-WR-RELCALID:6d64fd6c4b578d9cb41012d1005ba3de
X-WR-TIMEZONE:America/New_York
BEGIN:VTIMEZONE
TZID:America/New_York
BEGIN:STANDARD
TZNAME:EST
DTSTART:20241103T020000
TZOFFSETFROM:-0400
TZOFFSETTO:-0500
RDATE:20251102T020000
END:STANDARD
BEGIN:DAYLIGHT
TZNAME:EDT
DTSTART:20240310T020000
TZOFFSETFROM:-0500
TZOFFSETTO:-0400
RDATE:20250309T020000
RDATE:20260308T020000
END:DAYLIGHT
END:VTIMEZONE
BEGIN:VEVENT
UID:6846774b-2ee1-40c6-be4c-9da237aef51f
DTSTAMP:20260424T213007Z
DESCRIPTION:Join us for an informative interview-style chat with SWS Vision
 aries.\n\nIf you ever wondered how research works\, this is your chance to
  hear it from two esteemed researchers. Dr. Doug Marchuk and Dr. Kristen K
 elly will discuss the process of developing new research on Sturge-Weber a
 nd Port-Wine Birthmarks\, highlighting how many researchers collaborate fo
 r a greater cause.
DTSTART;TZID=America/New_York:20241125T180000
DTEND;TZID=America/New_York:20241125T190000
LOCATION:https://app.theauxilia.com/registrationEvent/e5943ff7-a1ac-48f5-a0
 17-eb5e8011f8ba
SUMMARY:A Warrior's Perspective: SWS Visionaries
END:VEVENT
END:VCALENDAR
