BEGIN:VCALENDAR
VERSION:2.0
PRODID:-//sturge-weber.org//NONSGML kigkonsult.se iCalcreator 2.30.10//
CALSCALE:GREGORIAN
METHOD:PUBLISH
UID:94d362fb-6fae-4019-9608-905c8d850f55
X-WR-CALDESC:Join Karen Ball\, CEO and Founder for a lively chat. Ask her a
 nything\, laugh\, and connect.\n\nThis is a free event.
X-WR-RELCALID:a077901522ce996ad3d2051bbe1c33f2
X-WR-TIMEZONE:America/New_York
BEGIN:VTIMEZONE
TZID:America/New_York
BEGIN:STANDARD
TZNAME:EST
DTSTART:20241103T020000
TZOFFSETFROM:-0400
TZOFFSETTO:-0500
RDATE:20251102T020000
END:STANDARD
BEGIN:DAYLIGHT
TZNAME:EDT
DTSTART:20240310T020000
TZOFFSETFROM:-0500
TZOFFSETTO:-0400
RDATE:20250309T020000
RDATE:20260308T020000
END:DAYLIGHT
END:VTIMEZONE
BEGIN:VEVENT
UID:d0cfbc28-2fa5-47e3-a3cc-6860e7243979
DTSTAMP:20260424T195018Z
DESCRIPTION:Join Karen Ball\, CEO and Founder for a lively chat. Ask her an
 ything\, laugh\, and connect.\n\nThis is a free event.
DTSTART;TZID=America/New_York:20241203T190000
DTEND;TZID=America/New_York:20241203T203000
LOCATION:
SUMMARY:Town Hall Chat with Karen - Virtual
END:VEVENT
END:VCALENDAR
