BEGIN:VCALENDAR
VERSION:2.0
PRODID:-//sturge-weber.org//NONSGML kigkonsult.se iCalcreator 2.30.10//
CALSCALE:GREGORIAN
METHOD:PUBLISH
UID:e5ae1ee8-d83f-4077-89a9-0e4019cddd9b
X-WR-CALDESC:Bring your kids for this very special children's book reading 
 with Marijke!\n\n“My Magical Mark” follows Sofie and her Port-Wine birthma
 rk as she tells the magical story of fairies who paint beautiful marks on 
 babies before they are born. This charming book highlights the beauty of i
 ndividuality and reminds readers that these unique marks are symbols of lo
 ve and diversity.\n\nMarijke has generously agreed to give away a copy of 
 her book too! Must be present during the live drawing to win.
X-WR-RELCALID:18fc81cc0885ad2d70da1f9433528970
X-WR-TIMEZONE:America/New_York
BEGIN:VTIMEZONE
TZID:America/New_York
BEGIN:STANDARD
TZNAME:EST
DTSTART:20241103T020000
TZOFFSETFROM:-0400
TZOFFSETTO:-0500
RDATE:20251102T020000
END:STANDARD
BEGIN:DAYLIGHT
TZNAME:EDT
DTSTART:20240310T020000
TZOFFSETFROM:-0500
TZOFFSETTO:-0400
RDATE:20250309T020000
RDATE:20260308T020000
END:DAYLIGHT
END:VTIMEZONE
BEGIN:VEVENT
UID:2041b421-3833-4593-9097-45b99db9ddb2
DTSTAMP:20260424T201537Z
DESCRIPTION:Bring your kids for this very special children's book reading w
 ith Marijke!\n\n“My Magical Mark” follows Sofie and her Port-Wine birthmar
 k as she tells the magical story of fairies who paint beautiful marks on b
 abies before they are born. This charming book highlights the beauty of in
 dividuality and reminds readers that these unique marks are symbols of lov
 e and diversity.\n\nMarijke has generously agreed to give away a copy of h
 er book too! Must be present during the live drawing to win.
DTSTART;TZID=America/New_York:20241210T193000
DTEND;TZID=America/New_York:20241210T203000
LOCATION:https://app.theauxilia.com/registrationEvent/14d05fa2-7bec-4ce2-a8
 61-a6e8c304fd14
SUMMARY:Children's Book Reading 'My Magical Mark'
END:VEVENT
END:VCALENDAR
