BEGIN:VCALENDAR
VERSION:2.0
PRODID:-//sturge-weber.org//NONSGML kigkonsult.se iCalcreator 2.30.10//
CALSCALE:GREGORIAN
METHOD:PUBLISH
UID:e89a1caf-083f-42de-ad43-2903fa5a8f0a
X-WR-CALDESC:
X-WR-RELCALID:cd0f2e77a5960d48af9e7bb079a90e66
X-WR-TIMEZONE:America/New_York
BEGIN:VTIMEZONE
TZID:America/New_York
BEGIN:STANDARD
TZNAME:EST
DTSTART:20241103T020000
TZOFFSETFROM:-0400
TZOFFSETTO:-0500
RDATE:20251102T020000
END:STANDARD
BEGIN:DAYLIGHT
TZNAME:EDT
DTSTART:20240310T020000
TZOFFSETFROM:-0500
TZOFFSETTO:-0400
RDATE:20250309T020000
RDATE:20260308T020000
END:DAYLIGHT
END:VTIMEZONE
BEGIN:VEVENT
UID:b3cae89b-5b6a-4018-87b6-33cbb7b087fd
DTSTAMP:20260424T180810Z
DESCRIPTION:
DTSTART;TZID=America/New_York:20250125T120000
DTEND;TZID=America/New_York:20250125T130000
LOCATION:https://app.theauxilia.com/registrationEvent/8a1d5d8d-72c1-4d15-93
 e4-a304c8be8612
SUMMARY:Ask the Experts: Dr. Alex Levin
END:VEVENT
END:VCALENDAR
