BEGIN:VCALENDAR
VERSION:2.0
PRODID:-//sturge-weber.org//NONSGML kigkonsult.se iCalcreator 2.30.10//
CALSCALE:GREGORIAN
METHOD:PUBLISH
UID:b6611823-de5b-44eb-a707-6d132f0611c1
X-WR-CALDESC:This is a virtual Chat.
X-WR-RELCALID:165ed5f3ae2f6c0f1ad0961f33e986f2
X-WR-TIMEZONE:America/New_York
BEGIN:VTIMEZONE
TZID:America/New_York
BEGIN:STANDARD
TZNAME:EST
DTSTART:20241103T020000
TZOFFSETFROM:-0400
TZOFFSETTO:-0500
RDATE:20251102T020000
END:STANDARD
BEGIN:DAYLIGHT
TZNAME:EDT
DTSTART:20240310T020000
TZOFFSETFROM:-0500
TZOFFSETTO:-0400
RDATE:20250309T020000
RDATE:20260308T020000
END:DAYLIGHT
END:VTIMEZONE
BEGIN:VEVENT
UID:1119364b-fef6-4682-8e0a-ba75542336cf
DTSTAMP:20260424T160603Z
DESCRIPTION:This is a virtual Chat.
DTSTART;TZID=America/New_York:20250219T193000
DTEND;TZID=America/New_York:20250219T203000
LOCATION:
SUMMARY:Adult Patient Chat
END:VEVENT
END:VCALENDAR
