BEGIN:VCALENDAR
VERSION:2.0
PRODID:-//sturge-weber.org//NONSGML kigkonsult.se iCalcreator 2.30.10//
CALSCALE:GREGORIAN
METHOD:PUBLISH
UID:d7508837-8a48-4255-863c-ed806bb7a6f3
X-WR-CALDESC:
X-WR-RELCALID:5a2b18e8bd26316f9d49236acd83f50f
X-WR-TIMEZONE:America/New_York
BEGIN:VTIMEZONE
TZID:America/New_York
BEGIN:STANDARD
TZNAME:EST
DTSTART:20241103T020000
TZOFFSETFROM:-0400
TZOFFSETTO:-0500
RDATE:20251102T020000
END:STANDARD
BEGIN:DAYLIGHT
TZNAME:EDT
DTSTART:20240310T020000
TZOFFSETFROM:-0500
TZOFFSETTO:-0400
RDATE:20250309T020000
RDATE:20260308T020000
END:DAYLIGHT
END:VTIMEZONE
BEGIN:VEVENT
UID:62c30f79-25c2-4249-b96c-cd82edf192de
DTSTAMP:20260424T142540Z
DESCRIPTION:
DTSTART;TZID=America/New_York:20250307T173000
DTEND;TZID=America/New_York:20250307T193000
LOCATION:Ice Bar\, Orlando\, Florida
SUMMARY:Reunion of Champions
END:VEVENT
END:VCALENDAR
