BEGIN:VCALENDAR
VERSION:2.0
PRODID:-//sturge-weber.org//NONSGML kigkonsult.se iCalcreator 2.30.10//
CALSCALE:GREGORIAN
METHOD:PUBLISH
UID:23a5de7d-be27-4eed-856b-4ed0f8c5321d
X-WR-CALDESC:Our Mental Health virtual chats allow one to meet other adults
  (21+) with SWS\, KTS\, and PWB. This is a virtual event.
X-WR-RELCALID:a545b30500fd29973195b83fc4df7af3
X-WR-TIMEZONE:America/New_York
BEGIN:VTIMEZONE
TZID:America/New_York
BEGIN:STANDARD
TZNAME:EST
DTSTART:20241103T020000
TZOFFSETFROM:-0400
TZOFFSETTO:-0500
RDATE:20251102T020000
END:STANDARD
BEGIN:DAYLIGHT
TZNAME:EDT
DTSTART:20250309T020000
TZOFFSETFROM:-0500
TZOFFSETTO:-0400
RDATE:20260308T020000
END:DAYLIGHT
END:VTIMEZONE
BEGIN:VEVENT
UID:adaa98ca-5f42-4cdb-b6c0-24fe48c932b8
DTSTAMP:20260424T142853Z
DESCRIPTION:Our Mental Health virtual chats allow one to meet other adults 
 (21+) with SWS\, KTS\, and PWB. This is a virtual event.
DTSTART;TZID=America/New_York:20250312T193000
DTEND;TZID=America/New_York:20250312T203000
LOCATION:
SUMMARY:SWS Adult Patient Chat
END:VEVENT
END:VCALENDAR
