BEGIN:VCALENDAR
VERSION:2.0
PRODID:-//sturge-weber.org//NONSGML kigkonsult.se iCalcreator 2.30.10//
CALSCALE:GREGORIAN
METHOD:PUBLISH
UID:eb211d21-1162-4454-a7be-27d0c2bd86aa
X-WR-CALDESC:NOTE: This is a professional-only event for SWFIRN and CCN.\n
 \nChris Hughes (UCI Professor) will give a virtual talk about his latest r
 esearch work and then take questions and answers afterward. 4:00 pm - 5:00
  pm EST
X-WR-RELCALID:b15ba03f980bc081805d99f47c2d6d26
X-WR-TIMEZONE:America/New_York
BEGIN:VTIMEZONE
TZID:America/New_York
BEGIN:STANDARD
TZNAME:EST
DTSTART:20241103T020000
TZOFFSETFROM:-0400
TZOFFSETTO:-0500
RDATE:20251102T020000
END:STANDARD
BEGIN:DAYLIGHT
TZNAME:EDT
DTSTART:20250309T020000
TZOFFSETFROM:-0500
TZOFFSETTO:-0400
RDATE:20260308T020000
END:DAYLIGHT
END:VTIMEZONE
BEGIN:VEVENT
UID:217c7f98-fa65-4d97-bf35-96c8d0a290d8
DTSTAMP:20260424T125411Z
DESCRIPTION:NOTE: This is a professional-only event for SWFIRN and CCN.\n\n
 Chris Hughes (UCI Professor) will give a virtual talk about his latest res
 earch work and then take questions and answers afterward. 4:00 pm - 5:00 p
 m EST
DTSTART;TZID=America/New_York:20250415T160000
DTEND;TZID=America/New_York:20250415T170000
LOCATION:
SUMMARY:PROFESSIONALS EVENT: Animal Modeling with Chris Hughes
END:VEVENT
END:VCALENDAR
