BEGIN:VCALENDAR
VERSION:2.0
PRODID:-//sturge-weber.org//NONSGML kigkonsult.se iCalcreator 2.30.10//
CALSCALE:GREGORIAN
METHOD:PUBLISH
UID:1a87765c-d9f1-4561-80a0-377ad3b91809
X-WR-CALDESC:Join Karen Ball\, CEO and Founder for a lively chat and SWS Mo
 nth of Awareness Kick-Off Event. \n\nLearn how you can join in the fun thi
 s Month of Awareness.\n\nGrab a drink\, we'll see you there!
X-WR-RELCALID:726cd88ccb237dac6f963e2e18f57b4c
X-WR-TIMEZONE:America/New_York
BEGIN:VTIMEZONE
TZID:America/New_York
BEGIN:STANDARD
TZNAME:EST
DTSTART:20241103T020000
TZOFFSETFROM:-0400
TZOFFSETTO:-0500
RDATE:20251102T020000
END:STANDARD
BEGIN:DAYLIGHT
TZNAME:EDT
DTSTART:20250309T020000
TZOFFSETFROM:-0500
TZOFFSETTO:-0400
RDATE:20260308T020000
END:DAYLIGHT
END:VTIMEZONE
BEGIN:VEVENT
UID:89d1130f-6347-4298-8379-af2ecb18c122
DTSTAMP:20260424T112051Z
DESCRIPTION:Join Karen Ball\, CEO and Founder for a lively chat and SWS Mon
 th of Awareness Kick-Off Event. \n\nLearn how you can join in the fun this
  Month of Awareness.\n\nGrab a drink\, we'll see you there!
DTSTART;TZID=America/New_York:20250501T190000
DTEND;TZID=America/New_York:20250501T210000
LOCATION:https://app.theauxilia.com/registrationEvent/bb9e6d35-6505-4a2f-a4
 08-ddf5714a9b1c
SUMMARY:Month of Awareness Kick-Off Event with Karen
END:VEVENT
END:VCALENDAR
