BEGIN:VCALENDAR
VERSION:2.0
PRODID:-//sturge-weber.org//NONSGML kigkonsult.se iCalcreator 2.30.10//
CALSCALE:GREGORIAN
METHOD:PUBLISH
UID:4890752a-2cfd-45dc-a9cd-e730082e6b55
X-WR-CALDESC:Our Mental Health virtual chats allow one to meet other adults
  (21+) with SWS\, KTS\, and PWB. This is a virtual event.
X-WR-RELCALID:b58d6dccece283634cd4815107926318
X-WR-TIMEZONE:America/New_York
BEGIN:VTIMEZONE
TZID:America/New_York
BEGIN:STANDARD
TZNAME:EST
DTSTART:20241103T020000
TZOFFSETFROM:-0400
TZOFFSETTO:-0500
RDATE:20251102T020000
RDATE:20261101T020000
END:STANDARD
BEGIN:DAYLIGHT
TZNAME:EDT
DTSTART:20250309T020000
TZOFFSETFROM:-0500
TZOFFSETTO:-0400
RDATE:20260308T020000
END:DAYLIGHT
END:VTIMEZONE
BEGIN:VEVENT
UID:f3bdc64f-2da8-4cf6-9abc-4fed61098ed8
DTSTAMP:20260424T105615Z
DESCRIPTION:Our Mental Health virtual chats allow one to meet other adults 
 (21+) with SWS\, KTS\, and PWB. This is a virtual event.
DTSTART;TZID=America/New_York:20250515T193000
DTEND;TZID=America/New_York:20250515T203000
LOCATION:
SUMMARY:SWS Adult Patient Chat
END:VEVENT
END:VCALENDAR
