BEGIN:VCALENDAR
VERSION:2.0
PRODID:-//sturge-weber.org//NONSGML kigkonsult.se iCalcreator 2.30.10//
CALSCALE:GREGORIAN
METHOD:PUBLISH
UID:aba7ce18-1ee5-4856-bb37-2851b07edd85
X-WR-CALDESC:NOTE: This is a professional-only event for SWFIRN and CCN.\n
 \nKristen Kelly\, MD (UC Irvine Department of Dermatology) and Lisa Arkin\
 , MD (UW Health) will give a virtual talk about their latest research work
  and then take questions and answers afterward. 4:00 pm - 5:00 pm EST | *T
 his is the Rescheduled Date
X-WR-RELCALID:e2b406d03fcfe3cfb9a967f65ca5eafb
X-WR-TIMEZONE:America/New_York
BEGIN:VTIMEZONE
TZID:America/New_York
BEGIN:STANDARD
TZNAME:EST
DTSTART:20241103T020000
TZOFFSETFROM:-0400
TZOFFSETTO:-0500
RDATE:20251102T020000
RDATE:20261101T020000
END:STANDARD
BEGIN:DAYLIGHT
TZNAME:EDT
DTSTART:20250309T020000
TZOFFSETFROM:-0500
TZOFFSETTO:-0400
RDATE:20260308T020000
END:DAYLIGHT
END:VTIMEZONE
BEGIN:VEVENT
UID:a13951f4-b865-4bae-9cda-e1c0014924b7
DTSTAMP:20260424T112051Z
DESCRIPTION:NOTE: This is a professional-only event for SWFIRN and CCN.\n\n
 Kristen Kelly\, MD (UC Irvine Department of Dermatology) and Lisa Arkin\, 
 MD (UW Health) will give a virtual talk about their latest research work a
 nd then take questions and answers afterward. 4:00 pm - 5:00 pm EST | *Thi
 s is the Rescheduled Date
DTSTART;TZID=America/New_York:20250520T160000
DTEND;TZID=America/New_York:20250520T170000
LOCATION:
SUMMARY:PROFESSIONALS EVENT: Animal Modeling with Kristen Kelly and Lisa Ar
 kin
END:VEVENT
END:VCALENDAR
