BEGIN:VCALENDAR
VERSION:2.0
PRODID:-//sturge-weber.org//NONSGML kigkonsult.se iCalcreator 2.30.10//
CALSCALE:GREGORIAN
METHOD:PUBLISH
UID:237bef4d-9826-40d2-be4f-46631f36036e
X-WR-CALDESC:Virtual Mini-Summit\, Spanish\n\nJune 14\, 2025 • 12:00 pm - 1
 :00 pm EST\n\nDr. Esteban Fernandez\, a Dermatologist\, will present derma
 tology in Spanish
X-WR-RELCALID:443c8f5f38e2337955264683e019da17
X-WR-TIMEZONE:America/New_York
BEGIN:VTIMEZONE
TZID:America/New_York
BEGIN:STANDARD
TZNAME:EST
DTSTART:20241103T020000
TZOFFSETFROM:-0400
TZOFFSETTO:-0500
RDATE:20251102T020000
RDATE:20261101T020000
END:STANDARD
BEGIN:DAYLIGHT
TZNAME:EDT
DTSTART:20250309T020000
TZOFFSETFROM:-0500
TZOFFSETTO:-0400
RDATE:20260308T020000
END:DAYLIGHT
END:VTIMEZONE
BEGIN:VEVENT
UID:e327ffa0-d30f-48c6-a12d-a7b2ac60589f
DTSTAMP:20260424T092520Z
DESCRIPTION:Virtual Mini-Summit\, Spanish\n\nJune 14\, 2025 • 12:00 pm - 1:
 00 pm EST\n\nDr. Esteban Fernandez\, a Dermatologist\, will present dermat
 ology in Spanish
DTSTART;TZID=America/New_York:20250614T120000
DTEND;TZID=America/New_York:20250614T130000
LOCATION:https://sturge-weber.org/events/swf-education-days.html
SUMMARY:Spanish Virtual Mini-Summit
END:VEVENT
END:VCALENDAR
