BEGIN:VCALENDAR
VERSION:2.0
PRODID:-//sturge-weber.org//NONSGML kigkonsult.se iCalcreator 2.30.10//
CALSCALE:GREGORIAN
METHOD:PUBLISH
UID:39412e79-33eb-42cb-acdf-53c467474647
X-WR-CALDESC:NOTE: This is a professional-only event for SWFIRN and CCN.
X-WR-RELCALID:212a7a7d231644362100fd4c4439ac38
X-WR-TIMEZONE:America/New_York
BEGIN:VTIMEZONE
TZID:America/New_York
BEGIN:STANDARD
TZNAME:EST
DTSTART:20241103T020000
TZOFFSETFROM:-0400
TZOFFSETTO:-0500
RDATE:20251102T020000
RDATE:20261101T020000
END:STANDARD
BEGIN:DAYLIGHT
TZNAME:EDT
DTSTART:20250309T020000
TZOFFSETFROM:-0500
TZOFFSETTO:-0400
RDATE:20260308T020000
END:DAYLIGHT
END:VTIMEZONE
BEGIN:VEVENT
UID:69850634-085f-41ed-b6fb-fb2e50961dc6
DTSTAMP:20260424T074616Z
DESCRIPTION:NOTE: This is a professional-only event for SWFIRN and CCN.
DTSTART;TZID=America/New_York:20250722T160000
DTEND;TZID=America/New_York:20250722T170000
LOCATION:
SUMMARY:PROFESSIONALS EVENT: Animal Modeling with Dr. Anne Comi
END:VEVENT
END:VCALENDAR
