BEGIN:VCALENDAR
VERSION:2.0
PRODID:-//sturge-weber.org//NONSGML kigkonsult.se iCalcreator 2.30.10//
CALSCALE:GREGORIAN
METHOD:PUBLISH
UID:ffe968be-46dd-46f6-bba1-96532cc53cf4
X-WR-CALDESC:Join Team Brielle RI for a day of fun\, raising awareness\, an
 d fundraising • Warwick\, Rhode Island
X-WR-RELCALID:de01dd52ec4303e5b46adfef95606577
X-WR-TIMEZONE:America/New_York
BEGIN:VTIMEZONE
TZID:America/New_York
BEGIN:STANDARD
TZNAME:EST
DTSTART:20241103T020000
TZOFFSETFROM:-0400
TZOFFSETTO:-0500
RDATE:20251102T020000
RDATE:20261101T020000
END:STANDARD
BEGIN:DAYLIGHT
TZNAME:EDT
DTSTART:20250309T020000
TZOFFSETFROM:-0500
TZOFFSETTO:-0400
RDATE:20260308T020000
RDATE:20270314T020000
END:DAYLIGHT
END:VTIMEZONE
BEGIN:VEVENT
UID:d0404096-843f-4e59-bf22-6acd28abf3d4
DTSTAMP:20260424T040356Z
DESCRIPTION:Join Team Brielle RI for a day of fun\, raising awareness\, and
  fundraising • Warwick\, Rhode Island
DTSTART;TZID=America/New_York:20250920T100000
DTEND;TZID=America/New_York:20250920T140000
LOCATION:
SUMMARY:Team Brielle\, Rhode Island Walk
END:VEVENT
END:VCALENDAR
