BEGIN:VCALENDAR
VERSION:2.0
PRODID:-//sturge-weber.org//NONSGML kigkonsult.se iCalcreator 2.30.10//
CALSCALE:GREGORIAN
METHOD:PUBLISH
UID:8426a34b-a6e2-4361-ae2b-7ec30dc99e13
X-WR-CALDESC:Our Mental Health virtual chats allow one to meet other adults
  (21+) with SWS\, KTS\, and PWB. This is a virtual event.
X-WR-RELCALID:6695f952870613319aac5f325b8740b9
X-WR-TIMEZONE:America/New_York
BEGIN:VTIMEZONE
TZID:America/New_York
BEGIN:STANDARD
TZNAME:EST
DTSTART:20241103T020000
TZOFFSETFROM:-0400
TZOFFSETTO:-0500
RDATE:20251102T020000
RDATE:20261101T020000
END:STANDARD
BEGIN:DAYLIGHT
TZNAME:EDT
DTSTART:20250309T020000
TZOFFSETFROM:-0500
TZOFFSETTO:-0400
RDATE:20260308T020000
RDATE:20270314T020000
END:DAYLIGHT
END:VTIMEZONE
BEGIN:VEVENT
UID:405c7421-dc28-42e7-ba4f-da3cd1a9da18
DTSTAMP:20260424T020430Z
DESCRIPTION:Our Mental Health virtual chats allow one to meet other adults 
 (21+) with SWS\, KTS\, and PWB. This is a virtual event.
DTSTART;TZID=America/New_York:20251008T193000
DTEND;TZID=America/New_York:20251008T203000
LOCATION:
SUMMARY:SWS Adult Patient Chat
END:VEVENT
END:VCALENDAR
