BEGIN:VCALENDAR
VERSION:2.0
PRODID:-//sturge-weber.org//NONSGML kigkonsult.se iCalcreator 2.30.10//
CALSCALE:GREGORIAN
METHOD:PUBLISH
UID:8278fa33-520d-4afb-b981-0964ccc52b6a
X-WR-CALDESC:Join us for Virtual Mini Summit with UC Irvine | November 6\, 
 2025\n(This webinar occurs in California at PST.)\n\nThe SWF and the Unive
 rsity of California - Irvine would like to invite you to this virtual mini
 -summit with UC Irvine. This mini-summit will be an opportunity to learn\,
  meet the team\, and get your questions answered by the experts. \n\nSched
 ule of Events:\n\n4:00-4:15: Dr. Suh\, Evaluation and Treatment of Eye Dis
 ease in Sturge-Weber Syndrome \n\n4:15-4:30: Dr. Kelly\, Port-Wine Birthma
 rk Treatment\n\n4:30-4:45: Dr. Steenari\, Evaluation and Treatment of Neur
 ologic Disease in Sturge-Weber Syndrome\n\n4:45-5:00:  Dr. Beuthe\, Challe
 nges in Pediatric Skin Care for Sturge-Weber Syndrome\n\n5:00-5:15: Sara A
 raghi\, New Approaches for Evaluating and Treating Port-Wine Birthmarks\n
 \n5:15-5:30: Discussion
X-WR-RELCALID:cf3f58beff2db650780c535a01b8f6a0
X-WR-TIMEZONE:America/Los_Angeles
BEGIN:VTIMEZONE
TZID:America/Los_Angeles
BEGIN:STANDARD
TZNAME:PST
DTSTART:20251102T020000
TZOFFSETFROM:-0700
TZOFFSETTO:-0800
RDATE:20261101T020000
END:STANDARD
BEGIN:DAYLIGHT
TZNAME:PDT
DTSTART:20250309T020000
TZOFFSETFROM:-0800
TZOFFSETTO:-0700
RDATE:20260308T020000
RDATE:20270314T020000
END:DAYLIGHT
END:VTIMEZONE
BEGIN:VEVENT
UID:1be38e17-67a0-4937-980f-55c1ff687d8c
DTSTAMP:20260424T001813Z
DESCRIPTION:Join us for Virtual Mini Summit with UC Irvine | November 6\, 2
 025\n(This webinar occurs in California at PST.)\n\nThe SWF and the Univer
 sity of California - Irvine would like to invite you to this virtual mini-
 summit with UC Irvine. This mini-summit will be an opportunity to learn\, 
 meet the team\, and get your questions answered by the experts. \n\nSchedu
 le of Events:\n\n4:00-4:15: Dr. Suh\, Evaluation and Treatment of Eye Dise
 ase in Sturge-Weber Syndrome \n\n4:15-4:30: Dr. Kelly\, Port-Wine Birthmar
 k Treatment\n\n4:30-4:45: Dr. Steenari\, Evaluation and Treatment of Neuro
 logic Disease in Sturge-Weber Syndrome\n\n4:45-5:00:  Dr. Beuthe\, Challen
 ges in Pediatric Skin Care for Sturge-Weber Syndrome\n\n5:00-5:15: Sara Ar
 aghi\, New Approaches for Evaluating and Treating Port-Wine Birthmarks\n\n
 5:15-5:30: Discussion
DTSTART;TZID=America/Los_Angeles:20251106T160000
DTEND;TZID=America/Los_Angeles:20251106T173000
LOCATION:https://app.theauxilia.com/registrationEvent/b7aea8ab-3661-4be8-b6
 3a-e677c48056e0
SUMMARY:UC Irvine Mini-Summit
END:VEVENT
END:VCALENDAR
