BEGIN:VCALENDAR
VERSION:2.0
PRODID:-//sturge-weber.org//NONSGML kigkonsult.se iCalcreator 2.30.10//
CALSCALE:GREGORIAN
METHOD:PUBLISH
UID:aee00b3d-ff1e-4240-8535-66b40abfb107
X-WR-CALDESC:Stay tuned for events announcement!
X-WR-RELCALID:2cc361aee85d9b822c5b704c6f026575
X-WR-TIMEZONE:America/New_York
BEGIN:VTIMEZONE
TZID:America/New_York
BEGIN:STANDARD
TZNAME:EST
DTSTART:20251102T020000
TZOFFSETFROM:-0400
TZOFFSETTO:-0500
RDATE:20261101T020000
END:STANDARD
BEGIN:DAYLIGHT
TZNAME:EDT
DTSTART:20250309T020000
TZOFFSETFROM:-0500
TZOFFSETTO:-0400
RDATE:20260308T020000
RDATE:20270314T020000
END:DAYLIGHT
END:VTIMEZONE
BEGIN:VEVENT
UID:1291fc21-9a06-4e03-90e1-b05d386e97e4
DTSTAMP:20260423T193537Z
DESCRIPTION:Stay tuned for events announcement!
DTSTART;TZID=America/New_York:20260209T060000
DTEND;TZID=America/New_York:20260216T060001
LOCATION:
SUMMARY:Seizure Action Plan week
END:VEVENT
END:VCALENDAR
