BEGIN:VCALENDAR
VERSION:2.0
PRODID:-//sturge-weber.org//NONSGML kigkonsult.se iCalcreator 2.30.10//
CALSCALE:GREGORIAN
METHOD:PUBLISH
UID:84f775a9-23ac-4941-b820-bc1a85c61838
X-WR-CALDESC:Stay tuned for details.
X-WR-RELCALID:76179d30b9ade039828326a3659c9422
X-WR-TIMEZONE:America/New_York
BEGIN:VTIMEZONE
TZID:America/New_York
BEGIN:STANDARD
TZNAME:EST
DTSTART:20251102T020000
TZOFFSETFROM:-0400
TZOFFSETTO:-0500
RDATE:20261101T020000
END:STANDARD
BEGIN:DAYLIGHT
TZNAME:EDT
DTSTART:20250309T020000
TZOFFSETFROM:-0500
TZOFFSETTO:-0400
RDATE:20260308T020000
RDATE:20270314T020000
END:DAYLIGHT
END:VTIMEZONE
BEGIN:VEVENT
UID:cb8d106f-b07c-4149-b683-27a67674361f
DTSTAMP:20260423T194305Z
DESCRIPTION:Stay tuned for details.
DTSTART;TZID=America/New_York:20260224T060000
DTEND;TZID=America/New_York:20260226T060001
LOCATION:
SUMMARY:Rare Disease Week - Washington DC
END:VEVENT
END:VCALENDAR
