BEGIN:VCALENDAR
VERSION:2.0
PRODID:-//sturge-weber.org//NONSGML kigkonsult.se iCalcreator 2.30.10//
CALSCALE:GREGORIAN
METHOD:PUBLISH
UID:47764d75-dce7-4455-a940-766ef3314bdd
X-WR-CALDESC:Join Karen Ball\, CEO and Founder\, for a lively chat. \n\nGra
 b a treat and a drink and join Karen for some virtual laughter.\n\nWe hope
  to see you there!
X-WR-RELCALID:25025ae515fd4a91f6a4e346211399fe
X-WR-TIMEZONE:America/New_York
BEGIN:VTIMEZONE
TZID:America/New_York
BEGIN:STANDARD
TZNAME:EST
DTSTART:20251102T020000
TZOFFSETFROM:-0400
TZOFFSETTO:-0500
RDATE:20261101T020000
END:STANDARD
BEGIN:DAYLIGHT
TZNAME:EDT
DTSTART:20260308T020000
TZOFFSETFROM:-0500
TZOFFSETTO:-0400
RDATE:20270314T020000
END:DAYLIGHT
END:VTIMEZONE
BEGIN:VEVENT
UID:a9075adb-49ad-47de-a72c-8c093ed92ba7
DTSTAMP:20260423T162535Z
DESCRIPTION:Join Karen Ball\, CEO and Founder\, for a lively chat. \n\nGrab
  a treat and a drink and join Karen for some virtual laughter.\n\nWe hope 
 to see you there!
DTSTART;TZID=America/New_York:20260429T190000
DTEND;TZID=America/New_York:20260429T200000
LOCATION:https://app.theauxilia.com/registrationEvent/65d17737-a6fc-4798-98
 d1-c8c2ebd750c8
SUMMARY:Virtual Chat with the CEO\, Karen Ball
END:VEVENT
END:VCALENDAR
