BEGIN:VCALENDAR
VERSION:2.0
PRODID:-//sturge-weber.org//NONSGML kigkonsult.se iCalcreator 2.30.10//
CALSCALE:GREGORIAN
METHOD:PUBLISH
UID:bd6109db-707d-4840-8993-a61e24a2541b
X-WR-CALDESC:We are going to San Antonio! Stay tuned for details and regist
 ration. Opens soon.
X-WR-RELCALID:bb44254bd104e4301b19e03323c9f64a
X-WR-TIMEZONE:America/New_York
BEGIN:VTIMEZONE
TZID:America/New_York
BEGIN:STANDARD
TZNAME:EST
DTSTART:20251102T020000
TZOFFSETFROM:-0400
TZOFFSETTO:-0500
RDATE:20261101T020000
RDATE:20271107T020000
END:STANDARD
BEGIN:DAYLIGHT
TZNAME:EDT
DTSTART:20260308T020000
TZOFFSETFROM:-0500
TZOFFSETTO:-0400
RDATE:20270314T020000
END:DAYLIGHT
END:VTIMEZONE
BEGIN:VEVENT
UID:5a1be315-988f-40aa-a93b-69b88328a85f
DTSTAMP:20260423T194422Z
DESCRIPTION:We are going to San Antonio! Stay tuned for details and registr
 ation. Opens soon.
DTSTART;TZID=America/New_York:20260625T060000
DTEND;TZID=America/New_York:20260627T060001
LOCATION:
SUMMARY:SWF Family Conference in San Antonio
END:VEVENT
END:VCALENDAR
