BEGIN:VCALENDAR
VERSION:2.0
PRODID:-//sturge-weber.org//NONSGML kigkonsult.se iCalcreator 2.30.10//
CALSCALE:GREGORIAN
METHOD:PUBLISH
UID:8f7667d9-4627-47b8-8cab-d10dd67f2f52
X-WR-CALDESC:
X-WR-RELCALID:75dd83eaa97756e078a74d4cb0973332
X-WR-TIMEZONE:America/Los_Angeles
BEGIN:VTIMEZONE
TZID:America/Los_Angeles
BEGIN:STANDARD
TZNAME:PST
DTSTART:20211107T020000
TZOFFSETFROM:-0700
TZOFFSETTO:-0800
RDATE:20221106T020000
RDATE:20231105T020000
END:STANDARD
BEGIN:DAYLIGHT
TZNAME:PDT
DTSTART:20220313T020000
TZOFFSETFROM:-0800
TZOFFSETTO:-0700
RDATE:20230312T020000
END:DAYLIGHT
END:VTIMEZONE
BEGIN:VEVENT
UID:a6de4953-7e53-4915-972d-c5e10709f723
DTSTAMP:20260423T090000Z
DESCRIPTION:
DTSTART;TZID=America/Los_Angeles:20220511T000000
DTEND;TZID=America/Los_Angeles:20220513T015900
LOCATION:San Franscico\, CA
SUMMARY:BVMC Annual Meeting
END:VEVENT
END:VCALENDAR
