BEGIN:VCALENDAR
VERSION:2.0
PRODID:-//sturge-weber.org//NONSGML kigkonsult.se iCalcreator 2.30.10//
CALSCALE:GREGORIAN
METHOD:PUBLISH
UID:45e4983f-534d-4ef5-8eed-59d674093a8c
X-WR-CALDESC:Learn more about how you can support this amazing below.
X-WR-RELCALID:395d4723fa8bbd380cc560564f7baa3c
X-WR-TIMEZONE:America/New_York
BEGIN:VTIMEZONE
TZID:America/New_York
BEGIN:STANDARD
TZNAME:EST
DTSTART:20211107T020000
TZOFFSETFROM:-0400
TZOFFSETTO:-0500
RDATE:20221106T020000
RDATE:20231105T020000
END:STANDARD
BEGIN:DAYLIGHT
TZNAME:EDT
DTSTART:20220313T020000
TZOFFSETFROM:-0500
TZOFFSETTO:-0400
RDATE:20230312T020000
END:DAYLIGHT
END:VTIMEZONE
BEGIN:VEVENT
UID:ce3cc320-aea4-4b50-882e-026be2e0eb6e
DTSTAMP:20260423T084100Z
DESCRIPTION:Learn more about how you can support this amazing below.
DTSTART;TZID=America/New_York:20220521T000000
DTEND;TZID=America/New_York:20220521T235900
LOCATION:Greensburg\, IN
SUMMARY:Myla's Mission 5k Walk & UTV Ride
END:VEVENT
END:VCALENDAR
