BEGIN:VCALENDAR
VERSION:2.0
PRODID:-//sturge-weber.org//NONSGML kigkonsult.se iCalcreator 2.30.10//
CALSCALE:GREGORIAN
METHOD:PUBLISH
UID:42bfb973-04f5-481e-a980-e56b6a00e952
X-WR-CALDESC:
X-WR-RELCALID:02896ae694270b8bfd8c9210a1e79941
X-WR-TIMEZONE:America/New_York
BEGIN:VTIMEZONE
TZID:America/New_York
BEGIN:STANDARD
TZNAME:EST
DTSTART:20241103T020000
TZOFFSETFROM:-0400
TZOFFSETTO:-0500
RDATE:20251102T020000
END:STANDARD
BEGIN:DAYLIGHT
TZNAME:EDT
DTSTART:20240310T020000
TZOFFSETFROM:-0500
TZOFFSETTO:-0400
RDATE:20250309T020000
RDATE:20260308T020000
END:DAYLIGHT
END:VTIMEZONE
BEGIN:VEVENT
UID:6a8e5c85-60e3-4536-b630-eb51358c4e82
DTSTAMP:20260422T221029Z
DESCRIPTION:
DTSTART;TZID=America/New_York:20241109T080000
DTEND;TZID=America/New_York:20241109T133000
LOCATION:
SUMMARY:Children's Hospital of Michigan Mini-Summit
END:VEVENT
END:VCALENDAR
