BEGIN:VCALENDAR
VERSION:2.0
PRODID:-//sturge-weber.org//NONSGML kigkonsult.se iCalcreator 2.30.10//
CALSCALE:GREGORIAN
METHOD:PUBLISH
UID:8d116dee-befe-4c72-80eb-df72983e42f6
X-WR-CALDESC:Our Mental Health virtual chats allow one to meet other adults
  (21+) with SWS\, KTS\, and PWB. This is a virtual event.
X-WR-RELCALID:ae39adf4a71cfe3189dbc3edcfab6d93
X-WR-TIMEZONE:America/New_York
BEGIN:VTIMEZONE
TZID:America/New_York
BEGIN:STANDARD
TZNAME:EST
DTSTART:20241103T020000
TZOFFSETFROM:-0400
TZOFFSETTO:-0500
RDATE:20251102T020000
END:STANDARD
BEGIN:DAYLIGHT
TZNAME:EDT
DTSTART:20250309T020000
TZOFFSETFROM:-0500
TZOFFSETTO:-0400
RDATE:20260308T020000
END:DAYLIGHT
END:VTIMEZONE
BEGIN:VEVENT
UID:4b7096da-217d-4981-b520-2d0010b6bf64
DTSTAMP:20260422T130201Z
DESCRIPTION:Our Mental Health virtual chats allow one to meet other adults 
 (21+) with SWS\, KTS\, and PWB. This is a virtual event.
DTSTART;TZID=America/New_York:20250409T193000
DTEND;TZID=America/New_York:20250409T203000
LOCATION:
SUMMARY:SWS Adult Patient Chat
END:VEVENT
END:VCALENDAR
