BEGIN:VCALENDAR
VERSION:2.0
PRODID:-//sturge-weber.org//NONSGML kigkonsult.se iCalcreator 2.30.10//
CALSCALE:GREGORIAN
METHOD:PUBLISH
UID:77219392-c8e0-4be8-ac64-1d72f0b1e31b
X-WR-CALDESC:Learn how you can join in the fun this Month of Awareness.\n
X-WR-RELCALID:0e4c3313539e90f874eadac5b7dba6b5
X-WR-TIMEZONE:America/New_York
BEGIN:VTIMEZONE
TZID:America/New_York
BEGIN:STANDARD
TZNAME:EST
DTSTART:20241103T020000
TZOFFSETFROM:-0400
TZOFFSETTO:-0500
RDATE:20251102T020000
END:STANDARD
BEGIN:DAYLIGHT
TZNAME:EDT
DTSTART:20250309T020000
TZOFFSETFROM:-0500
TZOFFSETTO:-0400
RDATE:20260308T020000
END:DAYLIGHT
END:VTIMEZONE
BEGIN:VEVENT
UID:f3a7d17d-1676-4a69-9127-d832aa528b50
DTSTAMP:20260422T094340Z
DESCRIPTION:Learn how you can join in the fun this Month of Awareness.\n
DTSTART;TZID=America/New_York:20250501T000000
DTEND;TZID=America/New_York:20250630T210000
LOCATION:
SUMMARY:SWS Month of Awareness
END:VEVENT
END:VCALENDAR
