BEGIN:VCALENDAR
VERSION:2.0
PRODID:-//sturge-weber.org//NONSGML kigkonsult.se iCalcreator 2.30.10//
CALSCALE:GREGORIAN
METHOD:PUBLISH
UID:adf350d9-cda9-4015-bab5-0699eafe228b
X-WR-CALDESC:The First BITE of Summer in Beach Haven\, NJ!\nKicking off the
  best time of year at the Jersey Shore with Ship Bottom Brewery and Second
  Capital Running. Join us at the Brewery after the race for the awards cer
 emony and complimentary beer for runners 21+\n• Chip Timed with Instant Re
 sults\n• Awards to the top 3 M/F Overall and in Age Groups: 14 & under\, 1
 5-19\, and 10 year AG up to 60+\n• Awards to the top 5 First Responders\, 
 also the top 5 Active Service and/or Veteran Military\n• Must register by 
 May 28 to be guaranteed a T-Shirt and other swag\n\nPowered by Second Capi
 tal Running
X-WR-RELCALID:20564926e7808c6929d469e5eebf4afb
X-WR-TIMEZONE:America/New_York
BEGIN:VTIMEZONE
TZID:America/New_York
BEGIN:STANDARD
TZNAME:EST
DTSTART:20241103T020000
TZOFFSETFROM:-0400
TZOFFSETTO:-0500
RDATE:20251102T020000
RDATE:20261101T020000
END:STANDARD
BEGIN:DAYLIGHT
TZNAME:EDT
DTSTART:20250309T020000
TZOFFSETFROM:-0500
TZOFFSETTO:-0400
RDATE:20260308T020000
END:DAYLIGHT
END:VTIMEZONE
BEGIN:VEVENT
UID:ab7adce3-6070-4b8b-aa77-03a004ddd355
DTSTAMP:20260422T094016Z
DESCRIPTION:The First BITE of Summer in Beach Haven\, NJ!\nKicking off the 
 best time of year at the Jersey Shore with Ship Bottom Brewery and Second 
 Capital Running. Join us at the Brewery after the race for the awards cere
 mony and complimentary beer for runners 21+\n• Chip Timed with Instant Res
 ults\n• Awards to the top 3 M/F Overall and in Age Groups: 14 & under\, 15
 -19\, and 10 year AG up to 60+\n• Awards to the top 5 First Responders\, a
 lso the top 5 Active Service and/or Veteran Military\n• Must register by M
 ay 28 to be guaranteed a T-Shirt and other swag\n\nPowered by Second Capit
 al Running
DTSTART;TZID=America/New_York:20250608T090000
DTEND;TZID=America/New_York:20250608T133000
LOCATION:
SUMMARY:Ship Bottom Brewery's Running With the Sharks 5K
END:VEVENT
END:VCALENDAR
