BEGIN:VCALENDAR
VERSION:2.0
PRODID:-//sturge-weber.org//NONSGML kigkonsult.se iCalcreator 2.30.10//
CALSCALE:GREGORIAN
METHOD:PUBLISH
UID:30a67cd0-8d46-4795-ba5a-075e30324586
X-WR-CALDESC:Join Ansley and Donald for a night of Hope and all things reli
 gion. \nHousekeeping things:\n1. Safe space \n2. No disrespect \n3. No con
 verting or judgments \n4. Please update your name /patient\, or family \n5
 . Video on if you want to chat \n6. We reserve the right to remove anyone 
 who does not comply
X-WR-RELCALID:6825e4ba0323bb4b26aefba4b8820ad4
X-WR-TIMEZONE:America/New_York
BEGIN:VTIMEZONE
TZID:America/New_York
BEGIN:STANDARD
TZNAME:EST
DTSTART:20241103T020000
TZOFFSETFROM:-0400
TZOFFSETTO:-0500
RDATE:20251102T020000
RDATE:20261101T020000
END:STANDARD
BEGIN:DAYLIGHT
TZNAME:EDT
DTSTART:20250309T020000
TZOFFSETFROM:-0500
TZOFFSETTO:-0400
RDATE:20260308T020000
END:DAYLIGHT
END:VTIMEZONE
BEGIN:VEVENT
UID:5876d559-0a99-4927-bb05-939cb911e62e
DTSTAMP:20260422T094313Z
DESCRIPTION:Join Ansley and Donald for a night of Hope and all things relig
 ion. \nHousekeeping things:\n1. Safe space \n2. No disrespect \n3. No conv
 erting or judgments \n4. Please update your name /patient\, or family \n5.
  Video on if you want to chat \n6. We reserve the right to remove anyone w
 ho does not comply
DTSTART;TZID=America/New_York:20250616T193000
DTEND;TZID=America/New_York:20250616T203000
LOCATION:https://app.theauxilia.com/registrationEvent/3233348e-d8f2-4f62-81
 9a-bf3d11de0a9d
SUMMARY:BE THE TORCH. BE THE LIGHT.
END:VEVENT
END:VCALENDAR
