BEGIN:VCALENDAR
VERSION:2.0
PRODID:-//sturge-weber.org//NONSGML kigkonsult.se iCalcreator 2.30.10//
CALSCALE:GREGORIAN
METHOD:PUBLISH
UID:c33e6ae7-b72b-430b-825f-e05f35798d18
X-WR-CALDESC:Our Mental Health virtual chats allow one to meet other adults
  (21+) with SWS\, KTS\, and PWB. This is a virtual event.
X-WR-RELCALID:3e7709567360a02f254a8dc31bb2f2ce
X-WR-TIMEZONE:America/New_York
BEGIN:VTIMEZONE
TZID:America/New_York
BEGIN:STANDARD
TZNAME:EST
DTSTART:20241103T020000
TZOFFSETFROM:-0400
TZOFFSETTO:-0500
RDATE:20251102T020000
RDATE:20261101T020000
END:STANDARD
BEGIN:DAYLIGHT
TZNAME:EDT
DTSTART:20250309T020000
TZOFFSETFROM:-0500
TZOFFSETTO:-0400
RDATE:20260308T020000
END:DAYLIGHT
END:VTIMEZONE
BEGIN:VEVENT
UID:29d31a49-a668-4aa6-b956-2045b08cff10
DTSTAMP:20260422T093220Z
DESCRIPTION:Our Mental Health virtual chats allow one to meet other adults 
 (21+) with SWS\, KTS\, and PWB. This is a virtual event.
DTSTART;TZID=America/New_York:20250619T193000
DTEND;TZID=America/New_York:20250619T203000
LOCATION:
SUMMARY:SWS Adult Patient Chat
END:VEVENT
END:VCALENDAR
