BEGIN:VCALENDAR
VERSION:2.0
PRODID:-//sturge-weber.org//NONSGML kigkonsult.se iCalcreator 2.30.10//
CALSCALE:GREGORIAN
METHOD:PUBLISH
UID:2ab3299b-1bf9-4d08-83e9-1d316ee742ed
X-WR-CALDESC:Join us for a virtual chat\, Be the Torch. Be the Light\, with
  Ansley and Donald—a night of hope and inspiring conversations about faith
 . All faith groups are welcome.\n\nTime: 7:30 pm - 8:30 pm EST\nDate: July
  21\, 2025\n\nHousekeeping Guidelines:\n\nThis is a safe and respectful sp
 ace.\n• No judgment\, disrespect\, or attempts to convert others.\n• Pleas
 e update your name (patient or family).\n• Turn on your video if you'd lik
 e to chat.\n• Anyone who doesn't follow these rules may be removed.\n• Mos
 t importantly\, have fun!
X-WR-RELCALID:7d15065dc95a59f13af2ad6093658528
X-WR-TIMEZONE:America/New_York
BEGIN:VTIMEZONE
TZID:America/New_York
BEGIN:STANDARD
TZNAME:EST
DTSTART:20241103T020000
TZOFFSETFROM:-0400
TZOFFSETTO:-0500
RDATE:20251102T020000
RDATE:20261101T020000
END:STANDARD
BEGIN:DAYLIGHT
TZNAME:EDT
DTSTART:20250309T020000
TZOFFSETFROM:-0500
TZOFFSETTO:-0400
RDATE:20260308T020000
END:DAYLIGHT
END:VTIMEZONE
BEGIN:VEVENT
UID:93500c3e-696e-47db-ae5c-c524d24284bb
DTSTAMP:20260422T073059Z
DESCRIPTION:Join us for a virtual chat\, Be the Torch. Be the Light\, with 
 Ansley and Donald—a night of hope and inspiring conversations about faith.
  All faith groups are welcome.\n\nTime: 7:30 pm - 8:30 pm EST\nDate: July 
 21\, 2025\n\nHousekeeping Guidelines:\n\nThis is a safe and respectful spa
 ce.\n• No judgment\, disrespect\, or attempts to convert others.\n• Please
  update your name (patient or family).\n• Turn on your video if you'd like
  to chat.\n• Anyone who doesn't follow these rules may be removed.\n• Most
  importantly\, have fun!
DTSTART;TZID=America/New_York:20250721T193000
DTEND;TZID=America/New_York:20250721T203000
LOCATION:
SUMMARY:Be the Torch. Be the Light. (Faith Group)
END:VEVENT
END:VCALENDAR
