BEGIN:VCALENDAR
VERSION:2.0
PRODID:-//sturge-weber.org//NONSGML kigkonsult.se iCalcreator 2.30.10//
CALSCALE:GREGORIAN
METHOD:PUBLISH
UID:1a9ae4e7-7e00-4b5f-a88b-2affdd471484
X-WR-CALDESC:Birthmark Society Presents:\nOur very 1st Birthmark Bonfire BB
 Q meet up!! Huntington Beach\, Orange County\, CA. We will be reserving a 
 bonfire pit for everyone. And we will be making burgers\, hot dogs\, and s
 andwiches for everyone. Along with water\, soft drinks\, and juices. The b
 onfire pit will be at Huntington Beach State Park. Between the intersectio
 ns of Brookhurst and Magnolia on PCH. Day parking is $20. If you have beac
 h/foldable chairs and beach umbrellas. Please bring them. And don't forget
  your sunscreen! See everyone there!!!
X-WR-RELCALID:3ae4020615834eed7fbfe49d3dae5003
X-WR-TIMEZONE:America/Los_Angeles
BEGIN:VTIMEZONE
TZID:America/Los_Angeles
BEGIN:STANDARD
TZNAME:PST
DTSTART:20241103T020000
TZOFFSETFROM:-0700
TZOFFSETTO:-0800
RDATE:20251102T020000
RDATE:20261101T020000
END:STANDARD
BEGIN:DAYLIGHT
TZNAME:PDT
DTSTART:20250309T020000
TZOFFSETFROM:-0800
TZOFFSETTO:-0700
RDATE:20260308T020000
END:DAYLIGHT
END:VTIMEZONE
BEGIN:VEVENT
UID:dfc49a97-36c3-47f0-952d-81898ec4cf07
DTSTAMP:20260422T073202Z
DESCRIPTION:Birthmark Society Presents:\nOur very 1st Birthmark Bonfire BBQ
  meet up!! Huntington Beach\, Orange County\, CA. We will be reserving a b
 onfire pit for everyone. And we will be making burgers\, hot dogs\, and sa
 ndwiches for everyone. Along with water\, soft drinks\, and juices. The bo
 nfire pit will be at Huntington Beach State Park. Between the intersection
 s of Brookhurst and Magnolia on PCH. Day parking is $20. If you have beach
 /foldable chairs and beach umbrellas. Please bring them. And don't forget 
 your sunscreen! See everyone there!!!
DTSTART;TZID=America/Los_Angeles:20250726T160000
DTEND;TZID=America/Los_Angeles:20250726T210000
LOCATION:
SUMMARY:Birthmark Society Bonfire BBQ Meet-Up
END:VEVENT
END:VCALENDAR
