BEGIN:VCALENDAR
VERSION:2.0
PRODID:-//sturge-weber.org//NONSGML kigkonsult.se iCalcreator 2.30.10//
CALSCALE:GREGORIAN
METHOD:PUBLISH
UID:af0b3fc6-63cc-4901-96d1-8037ebb26137
X-WR-CALDESC:Do you live near Seattle WA — let's meet up! Karen is coming t
 o Seattle and would love to meet up. Now is your chance to register.
X-WR-RELCALID:10f5a8a35004145afa7fa06803822b3b
X-WR-TIMEZONE:America/Los_Angeles
BEGIN:VTIMEZONE
TZID:America/Los_Angeles
BEGIN:STANDARD
TZNAME:PST
DTSTART:20241103T020000
TZOFFSETFROM:-0700
TZOFFSETTO:-0800
RDATE:20251102T020000
RDATE:20261101T020000
END:STANDARD
BEGIN:DAYLIGHT
TZNAME:PDT
DTSTART:20250309T020000
TZOFFSETFROM:-0800
TZOFFSETTO:-0700
RDATE:20260308T020000
END:DAYLIGHT
END:VTIMEZONE
BEGIN:VEVENT
UID:e092e7a4-81f0-410b-bfbc-e6004b304912
DTSTAMP:20260422T073707Z
DESCRIPTION:Do you live near Seattle WA — let's meet up! Karen is coming to
  Seattle and would love to meet up. Now is your chance to register.
DTSTART;TZID=America/Los_Angeles:20250726T100000
DTEND;TZID=America/Los_Angeles:20250726T120000
LOCATION:
SUMMARY:Seattle Walk with Karen and Mara
END:VEVENT
END:VCALENDAR
