BEGIN:VCALENDAR
VERSION:2.0
PRODID:-//sturge-weber.org//NONSGML kigkonsult.se iCalcreator 2.30.10//
CALSCALE:GREGORIAN
METHOD:PUBLISH
UID:8eab8eb5-72d5-4b2a-befc-fb8fb3678850
X-WR-CALDESC:This event has been cancelled.\n\nOur Mental Health virtual ch
 ats allow one to meet other adults (21+) with SWS\, KTS\, and PWB. This is
  a virtual event.
X-WR-RELCALID:d03ad52d3d4e764e75d18438bb1f9b6c
X-WR-TIMEZONE:America/New_York
BEGIN:VTIMEZONE
TZID:America/New_York
BEGIN:STANDARD
TZNAME:EST
DTSTART:20241103T020000
TZOFFSETFROM:-0400
TZOFFSETTO:-0500
RDATE:20251102T020000
RDATE:20261101T020000
END:STANDARD
BEGIN:DAYLIGHT
TZNAME:EDT
DTSTART:20250309T020000
TZOFFSETFROM:-0500
TZOFFSETTO:-0400
RDATE:20260308T020000
END:DAYLIGHT
END:VTIMEZONE
BEGIN:VEVENT
UID:9a74961e-d20e-4ddb-92e3-d75c59b3fd8e
DTSTAMP:20260422T035040Z
DESCRIPTION:This event has been cancelled.\n\nOur Mental Health virtual cha
 ts allow one to meet other adults (21+) with SWS\, KTS\, and PWB. This is 
 a virtual event.
DTSTART;TZID=America/New_York:20250910T193000
DTEND;TZID=America/New_York:20250910T203000
LOCATION:
SUMMARY:SWS Adult Patient Chat
END:VEVENT
END:VCALENDAR
