BEGIN:VCALENDAR
VERSION:2.0
PRODID:-//sturge-weber.org//NONSGML kigkonsult.se iCalcreator 2.30.10//
CALSCALE:GREGORIAN
METHOD:PUBLISH
UID:6b13b0a5-03ae-499d-9ed1-0600c221e3ed
X-WR-CALDESC:Join us for a virtual chat\, Be the Torch. Be the Light\, with
  Ansley and Donald—a night of hope and inspiring conversations about faith
 .
X-WR-RELCALID:2bfbf590db4650131b016f86cfcde160
X-WR-TIMEZONE:America/New_York
BEGIN:VTIMEZONE
TZID:America/New_York
BEGIN:STANDARD
TZNAME:EST
DTSTART:20241103T020000
TZOFFSETFROM:-0400
TZOFFSETTO:-0500
RDATE:20251102T020000
RDATE:20261101T020000
END:STANDARD
BEGIN:DAYLIGHT
TZNAME:EDT
DTSTART:20250309T020000
TZOFFSETFROM:-0500
TZOFFSETTO:-0400
RDATE:20260308T020000
RDATE:20270314T020000
END:DAYLIGHT
END:VTIMEZONE
BEGIN:VEVENT
UID:decd829c-db33-43f7-88d9-2bf905f59f70
DTSTAMP:20260422T033951Z
DESCRIPTION:Join us for a virtual chat\, Be the Torch. Be the Light\, with 
 Ansley and Donald—a night of hope and inspiring conversations about faith.
DTSTART;TZID=America/New_York:20250915T193000
DTEND;TZID=America/New_York:20250915T203000
LOCATION:https://app.theauxilia.com/registrationEvent/1e6c1590-20d7-445a-b8
 02-9a1c65099012
SUMMARY:Be the Light
END:VEVENT
END:VCALENDAR
