BEGIN:VCALENDAR
VERSION:2.0
PRODID:-//sturge-weber.org//NONSGML kigkonsult.se iCalcreator 2.30.10//
CALSCALE:GREGORIAN
METHOD:PUBLISH
UID:146cf0c9-4ce9-40bb-82f8-e180037efae9
X-WR-CALDESC:THIS IS A PROFESSIONALS-ONLY EVENT:\n\nJoin us for our Clinica
 l Care Network (CCN) and SWF International Research Network Conference (SW
 FIRN).\n\nWe invite doctors\, clinicians\, researchers\, and especially me
 dical students\, fellows\, and early-career professionals interested in le
 arning about Sturge-Weber syndrome and connecting with experts in the fiel
 d.\n\nIf you are a fellow or junior and would like to work with us to lear
 n more about Sturge-Weber syndrome\, please contact us. We have virtual me
 etings throughout the year to benefit our medical and research communities
 . SWF patients and families will be joining us for a Mini-Summit as well. 
 We welcome you to have dinner to get to know the families. We're hosting a
  fun-filled family game show packed with laughs\, where patients and profe
 ssionals will go head-to-head in friendly competition.\n\nThe 2025 SWF SWF
 IRN / Clinical Care Network Conference \nThursday\, September 18 - 20\, 20
 25\nMadison\, Wisconsin\n\nClick for all the details and to register below
 .
X-WR-RELCALID:2f0c7b8628865e514952980da29dc646
X-WR-TIMEZONE:America/New_York
BEGIN:VTIMEZONE
TZID:America/New_York
BEGIN:STANDARD
TZNAME:EST
DTSTART:20241103T020000
TZOFFSETFROM:-0400
TZOFFSETTO:-0500
RDATE:20251102T020000
RDATE:20261101T020000
END:STANDARD
BEGIN:DAYLIGHT
TZNAME:EDT
DTSTART:20250309T020000
TZOFFSETFROM:-0500
TZOFFSETTO:-0400
RDATE:20260308T020000
RDATE:20270314T020000
END:DAYLIGHT
END:VTIMEZONE
BEGIN:VEVENT
UID:fa987316-16b0-4268-86a4-acd2a3c8130f
DTSTAMP:20260422T034629Z
DESCRIPTION:THIS IS A PROFESSIONALS-ONLY EVENT:\n\nJoin us for our Clinical
  Care Network (CCN) and SWF International Research Network Conference (SWF
 IRN).\n\nWe invite doctors\, clinicians\, researchers\, and especially med
 ical students\, fellows\, and early-career professionals interested in lea
 rning about Sturge-Weber syndrome and connecting with experts in the field
 .\n\nIf you are a fellow or junior and would like to work with us to learn
  more about Sturge-Weber syndrome\, please contact us. We have virtual mee
 tings throughout the year to benefit our medical and research communities.
  SWF patients and families will be joining us for a Mini-Summit as well. W
 e welcome you to have dinner to get to know the families. We're hosting a 
 fun-filled family game show packed with laughs\, where patients and profes
 sionals will go head-to-head in friendly competition.\n\nThe 2025 SWF SWFI
 RN / Clinical Care Network Conference \nThursday\, September 18 - 20\, 202
 5\nMadison\, Wisconsin\n\nClick for all the details and to register below.
DTSTART;TZID=America/New_York:20250918T060000
DTEND;TZID=America/New_York:20250920T060001
LOCATION:
SUMMARY:SWFIRN/CCN Conference - Madison
END:VEVENT
END:VCALENDAR
