BEGIN:VCALENDAR
VERSION:2.0
PRODID:-//sturge-weber.org//NONSGML kigkonsult.se iCalcreator 2.30.10//
CALSCALE:GREGORIAN
METHOD:PUBLISH
UID:dade6225-198e-4514-bf66-bd8a1e1948b5
X-WR-CALDESC:Sheraton Madison Hotel\nFriday\, September 19th\n\nNeurology •
  Dermatology • Ophthalmology • Group Discussions\nSWF Family Game Show Din
 ner
X-WR-RELCALID:e30e5a40d4c38e89be93dc082a6db8e3
X-WR-TIMEZONE:America/New_York
BEGIN:VTIMEZONE
TZID:America/New_York
BEGIN:STANDARD
TZNAME:EST
DTSTART:20241103T020000
TZOFFSETFROM:-0400
TZOFFSETTO:-0500
RDATE:20251102T020000
RDATE:20261101T020000
END:STANDARD
BEGIN:DAYLIGHT
TZNAME:EDT
DTSTART:20250309T020000
TZOFFSETFROM:-0500
TZOFFSETTO:-0400
RDATE:20260308T020000
RDATE:20270314T020000
END:DAYLIGHT
END:VTIMEZONE
BEGIN:VEVENT
UID:9432c7d7-a5c0-4049-8e71-6ca9b6249f4a
DTSTAMP:20260422T034043Z
DESCRIPTION:Sheraton Madison Hotel\nFriday\, September 19th\n\nNeurology • 
 Dermatology • Ophthalmology • Group Discussions\nSWF Family Game Show Dinn
 er
DTSTART;TZID=America/New_York:20250919T160000
DTEND;TZID=America/New_York:20250919T210000
LOCATION:
SUMMARY:Mini-Summit Madison\, WI
END:VEVENT
END:VCALENDAR
