BEGIN:VCALENDAR
VERSION:2.0
PRODID:-//sturge-weber.org//NONSGML kigkonsult.se iCalcreator 2.30.10//
CALSCALE:GREGORIAN
METHOD:PUBLISH
UID:c095a6c0-2dbb-4904-b486-af01088cb97a
X-WR-CALDESC:SLIME TIME AT SHIP BOTTOM\, MORNING RACE!\nCelebrate the relea
 se of Ship Bottom's famous Ecto Ghouler IPA with a Fall 5K through Beach H
 aven\, NJ! All runners 21+ get a free beer at the after-party - best costu
 me gets a 4 pack on us!\n• Awards to the top 3 M/F Overall and in Age Grou
 ps: 14 & under\, 15-19\, and 10 year AG up to 60+\n• Must register by Sept
  20 to be guaranteed a SBB giveaway item\n\nPowered by Second Capital Runn
 ing
X-WR-RELCALID:6ff3140176e41a01301adf74f57da3c2
X-WR-TIMEZONE:America/New_York
BEGIN:VTIMEZONE
TZID:America/New_York
BEGIN:STANDARD
TZNAME:EST
DTSTART:20241103T020000
TZOFFSETFROM:-0400
TZOFFSETTO:-0500
RDATE:20251102T020000
RDATE:20261101T020000
END:STANDARD
BEGIN:DAYLIGHT
TZNAME:EDT
DTSTART:20250309T020000
TZOFFSETFROM:-0500
TZOFFSETTO:-0400
RDATE:20260308T020000
RDATE:20270314T020000
END:DAYLIGHT
END:VTIMEZONE
BEGIN:VEVENT
UID:92d7d191-01a1-499a-ac27-a19d8c79653f
DTSTAMP:20260422T014241Z
DESCRIPTION:SLIME TIME AT SHIP BOTTOM\, MORNING RACE!\nCelebrate the releas
 e of Ship Bottom's famous Ecto Ghouler IPA with a Fall 5K through Beach Ha
 ven\, NJ! All runners 21+ get a free beer at the after-party - best costum
 e gets a 4 pack on us!\n• Awards to the top 3 M/F Overall and in Age Group
 s: 14 & under\, 15-19\, and 10 year AG up to 60+\n• Must register by Sept 
 20 to be guaranteed a SBB giveaway item\n\nPowered by Second Capital Runni
 ng
DTSTART;TZID=America/New_York:20251004T100000
DTEND;TZID=America/New_York:20251004T123000
LOCATION:
SUMMARY:Ship Bottom Ecko Grouler 5k\, Beach Haven\, NJ
END:VEVENT
END:VCALENDAR
