BEGIN:VCALENDAR
VERSION:2.0
PRODID:-//sturge-weber.org//NONSGML kigkonsult.se iCalcreator 2.30.10//
CALSCALE:GREGORIAN
METHOD:PUBLISH
UID:e3da4367-883e-4a7f-88ce-d470c6141732
X-WR-CALDESC:Virtual Mini-Summit\, Women's Health & SWS\n\nOctober 4\, 2025
  • 12:00 pm - 3:00 pm EST\n\nJoin us at our next mini summit as we explore
 :\n\n• Why multi-disciplinary clinics for young women with epilepsy? with 
 Dr. Christina Briscoe \n\n• Hormones throughout the life cycle with Dr. Di
 Vasta\n\n• Catamenial epilepsy with Dr. Christina Briscoe\n\nThank you to 
 the team at Boston Children's Hospital. This will be an exciting talk!\n\n
 \n*Please note there will now be a waiting room for all Zoom meetings. Be 
 patient as the host lets you in. If you have any questions or concerns\, p
 lease get in touch with Julia Terrell.\n\nSWF provides this free event to 
 all interested parties to learn more about Sturge-Weber Syndrome and relat
 ed conditions. Education Days are 3-hour virtual seminars on designated da
 ys. Professionals from dermatology\, ophthalmology\, neurology\, and other
  medical fields provide information on SWS\, treatments\, and new research
  being done to improve the quality of life for patients and caregivers. Th
 ere is also an opportunity to ask questions and network with other patient
 s and caregivers.
X-WR-RELCALID:7c1adab161e140439fae19576126d776
X-WR-TIMEZONE:America/New_York
BEGIN:VTIMEZONE
TZID:America/New_York
BEGIN:STANDARD
TZNAME:EST
DTSTART:20241103T020000
TZOFFSETFROM:-0400
TZOFFSETTO:-0500
RDATE:20251102T020000
RDATE:20261101T020000
END:STANDARD
BEGIN:DAYLIGHT
TZNAME:EDT
DTSTART:20250309T020000
TZOFFSETFROM:-0500
TZOFFSETTO:-0400
RDATE:20260308T020000
RDATE:20270314T020000
END:DAYLIGHT
END:VTIMEZONE
BEGIN:VEVENT
UID:b9b0aa20-106e-4c3b-b05d-25e12ae19da8
DTSTAMP:20260422T014911Z
DESCRIPTION:Virtual Mini-Summit\, Women's Health & SWS\n\nOctober 4\, 2025 
 • 12:00 pm - 3:00 pm EST\n\nJoin us at our next mini summit as we explore:
 \n\n• Why multi-disciplinary clinics for young women with epilepsy? with D
 r. Christina Briscoe \n\n• Hormones throughout the life cycle with Dr. DiV
 asta\n\n• Catamenial epilepsy with Dr. Christina Briscoe\n\nThank you to t
 he team at Boston Children's Hospital. This will be an exciting talk!\n\n
 \n*Please note there will now be a waiting room for all Zoom meetings. Be 
 patient as the host lets you in. If you have any questions or concerns\, p
 lease get in touch with Julia Terrell.\n\nSWF provides this free event to 
 all interested parties to learn more about Sturge-Weber Syndrome and relat
 ed conditions. Education Days are 3-hour virtual seminars on designated da
 ys. Professionals from dermatology\, ophthalmology\, neurology\, and other
  medical fields provide information on SWS\, treatments\, and new research
  being done to improve the quality of life for patients and caregivers. Th
 ere is also an opportunity to ask questions and network with other patient
 s and caregivers.
DTSTART;TZID=America/New_York:20251004T120000
DTEND;TZID=America/New_York:20251004T150000
LOCATION:https://app.theauxilia.com/registrationEvent/64295f84-abfb-4a30-9e
 58-02d50b17802c
SUMMARY:Women's Health & SWS Mini-Summit
END:VEVENT
END:VCALENDAR
