BEGIN:VCALENDAR
VERSION:2.0
PRODID:-//sturge-weber.org//NONSGML kigkonsult.se iCalcreator 2.30.10//
CALSCALE:GREGORIAN
METHOD:PUBLISH
UID:8fa37a54-e6f5-4fbb-a488-5c872734daeb
X-WR-CALDESC:NOTE: This is a professional-only event for SWFIRN and CCN.\n
 \nBen Frankfort\, MD\, PhD\, (Baylor College of Medicine) will give a virt
 ual talk about his latest research work and then take questions and answer
 s afterward. 4:00 pm - 5:00 pm EST
X-WR-RELCALID:ca5c9d40fbfbe62015c066c0270b0d4d
X-WR-TIMEZONE:America/New_York
BEGIN:VTIMEZONE
TZID:America/New_York
BEGIN:STANDARD
TZNAME:EST
DTSTART:20241103T020000
TZOFFSETFROM:-0400
TZOFFSETTO:-0500
RDATE:20251102T020000
RDATE:20261101T020000
END:STANDARD
BEGIN:DAYLIGHT
TZNAME:EDT
DTSTART:20250309T020000
TZOFFSETFROM:-0500
TZOFFSETTO:-0400
RDATE:20260308T020000
RDATE:20270314T020000
END:DAYLIGHT
END:VTIMEZONE
BEGIN:VEVENT
UID:c68f426a-165e-4f7c-b88b-bfcd9611998b
DTSTAMP:20260422T014030Z
DESCRIPTION:NOTE: This is a professional-only event for SWFIRN and CCN.\n\n
 Ben Frankfort\, MD\, PhD\, (Baylor College of Medicine) will give a virtua
 l talk about his latest research work and then take questions and answers 
 afterward. 4:00 pm - 5:00 pm EST
DTSTART;TZID=America/New_York:20251014T160000
DTEND;TZID=America/New_York:20251014T170000
LOCATION:
SUMMARY:PROFESSIONALS EVENT: Animal Modeling with Ben Frankfort
END:VEVENT
END:VCALENDAR
