BEGIN:VCALENDAR
VERSION:2.0
PRODID:-//sturge-weber.org//NONSGML kigkonsult.se iCalcreator 2.30.10//
CALSCALE:GREGORIAN
METHOD:PUBLISH
UID:a689c51b-8582-4d6c-b971-7de7fbb6cafe
X-WR-CALDESC:Join us for a virtual chat\, Be the Torch. Be the Light\, with
  Ansley and Donald—a night of hope and inspiring conversations about faith
 .\n\nTime: 7:30 pm - 8:30 pm EST\nDate: October 20\, 2025\n\nHousekeeping 
 Guidelines:\n\nThis is a safe and respectful space.\nNo judgment\, disresp
 ect\, or attempts to convert others.\nPlease update your name (patient or 
 family).\nTurn on your video if you'd like to chat.\nAnyone who doesn't fo
 llow these rules may be removed.\n\nMost importantly\, have fun!
X-WR-RELCALID:b72c16b096ff76f09ed4a45067065091
X-WR-TIMEZONE:America/New_York
BEGIN:VTIMEZONE
TZID:America/New_York
BEGIN:STANDARD
TZNAME:EST
DTSTART:20241103T020000
TZOFFSETFROM:-0400
TZOFFSETTO:-0500
RDATE:20251102T020000
RDATE:20261101T020000
END:STANDARD
BEGIN:DAYLIGHT
TZNAME:EDT
DTSTART:20250309T020000
TZOFFSETFROM:-0500
TZOFFSETTO:-0400
RDATE:20260308T020000
RDATE:20270314T020000
END:DAYLIGHT
END:VTIMEZONE
BEGIN:VEVENT
UID:5b49f33a-7823-4f30-a29e-8a796c18a99a
DTSTAMP:20260422T014651Z
DESCRIPTION:Join us for a virtual chat\, Be the Torch. Be the Light\, with 
 Ansley and Donald—a night of hope and inspiring conversations about faith.
 \n\nTime: 7:30 pm - 8:30 pm EST\nDate: October 20\, 2025\n\nHousekeeping G
 uidelines:\n\nThis is a safe and respectful space.\nNo judgment\, disrespe
 ct\, or attempts to convert others.\nPlease update your name (patient or f
 amily).\nTurn on your video if you'd like to chat.\nAnyone who doesn't fol
 low these rules may be removed.\n\nMost importantly\, have fun!
DTSTART;TZID=America/New_York:20251020T193000
DTEND;TZID=America/New_York:20251020T203000
LOCATION:https://app.theauxilia.com/registrationEvent/c0af5b62-d607-4d0f-af
 56-3756e4815288
SUMMARY:Be the Light Faith Night
END:VEVENT
END:VCALENDAR
