BEGIN:VCALENDAR
VERSION:2.0
PRODID:-//sturge-weber.org//NONSGML kigkonsult.se iCalcreator 2.30.10//
CALSCALE:GREGORIAN
METHOD:PUBLISH
UID:e56345d7-2c1e-4bf5-9917-4a5020c3f4de
X-WR-CALDESC:Join us for a virtual chat\, Be the Torch. Be the Light\, with
  Ansley and Donald—a night of hope and inspiring conversations about faith
 .\n\nHousekeeping Guidelines:\n\nThis is a safe and respectful space.\nNo 
 judgment\, disrespect\, or attempts to convert others.\nPlease update your
  name (patient or family).\nTurn on your video if you'd like to chat.\nAny
 one who doesn't follow these rules may be removed.\nMost importantly\, hav
 e fun!
X-WR-RELCALID:7ff15e9cb7dad5f5274e5145297d6039
X-WR-TIMEZONE:America/New_York
BEGIN:VTIMEZONE
TZID:America/New_York
BEGIN:STANDARD
TZNAME:EST
DTSTART:20251102T020000
TZOFFSETFROM:-0400
TZOFFSETTO:-0500
RDATE:20261101T020000
END:STANDARD
BEGIN:DAYLIGHT
TZNAME:EDT
DTSTART:20250309T020000
TZOFFSETFROM:-0500
TZOFFSETTO:-0400
RDATE:20260308T020000
RDATE:20270314T020000
END:DAYLIGHT
END:VTIMEZONE
BEGIN:VEVENT
UID:53f124b5-b97d-4193-9af5-b87ee776fb17
DTSTAMP:20260421T235055Z
DESCRIPTION:Join us for a virtual chat\, Be the Torch. Be the Light\, with 
 Ansley and Donald—a night of hope and inspiring conversations about faith.
 \n\nHousekeeping Guidelines:\n\nThis is a safe and respectful space.\nNo j
 udgment\, disrespect\, or attempts to convert others.\nPlease update your 
 name (patient or family).\nTurn on your video if you'd like to chat.\nAnyo
 ne who doesn't follow these rules may be removed.\nMost importantly\, have
  fun!
DTSTART;TZID=America/New_York:20251117T193000
DTEND;TZID=America/New_York:20251117T203000
LOCATION:https://app.theauxilia.com/registrationEvent/45d1b330-2278-4abe-9c
 f4-5753cd8a7517
SUMMARY:Be the Light Faith Night
END:VEVENT
END:VCALENDAR
