BEGIN:VCALENDAR
VERSION:2.0
PRODID:-//sturge-weber.org//NONSGML kigkonsult.se iCalcreator 2.30.10//
CALSCALE:GREGORIAN
METHOD:PUBLISH
UID:6933089c-e07e-45de-9308-61b20da7f06d
X-WR-CALDESC:Join Karen Ball\, CEO and Founder for a lively chat. \n\nGrab 
 a sweet treat and warm drink and join Karen for some virtual holiday cheer
 .\n\nWe hope to see you there!
X-WR-RELCALID:6b0d471edbd6625acf9a47d13f8a177a
X-WR-TIMEZONE:America/New_York
BEGIN:VTIMEZONE
TZID:America/New_York
BEGIN:STANDARD
TZNAME:EST
DTSTART:20251102T020000
TZOFFSETFROM:-0400
TZOFFSETTO:-0500
RDATE:20261101T020000
END:STANDARD
BEGIN:DAYLIGHT
TZNAME:EDT
DTSTART:20250309T020000
TZOFFSETFROM:-0500
TZOFFSETTO:-0400
RDATE:20260308T020000
RDATE:20270314T020000
END:DAYLIGHT
END:VTIMEZONE
BEGIN:VEVENT
UID:fdfb7a0e-d1dd-45d9-a989-0cc872f72909
DTSTAMP:20260421T235501Z
DESCRIPTION:Join Karen Ball\, CEO and Founder for a lively chat. \n\nGrab a
  sweet treat and warm drink and join Karen for some virtual holiday cheer.
 \n\nWe hope to see you there!
DTSTART;TZID=America/New_York:20251120T190000
DTEND;TZID=America/New_York:20251120T200000
LOCATION:
SUMMARY:Chat with Karen
END:VEVENT
END:VCALENDAR
