BEGIN:VCALENDAR
VERSION:2.0
PRODID:-//sturge-weber.org//NONSGML kigkonsult.se iCalcreator 2.30.10//
CALSCALE:GREGORIAN
METHOD:PUBLISH
UID:f36a81dc-53a4-4ffa-ac35-d969eae1a869
X-WR-CALDESC:Join us for a virtual chat\, Be the Torch. Be the Light\, with
  Ansley and Donald—a night of hope and inspiring conversations about faith
 . All faith groups are welcome.\n\nTime: 7:30 pm - 8:30 pm EST\nDate: Dece
 mber 15\, 2025\n\nHousekeeping Guidelines:\n\nThis is a safe and respectfu
 l space.\n• No judgment\, disrespect\, or attempts to convert others.\n• P
 lease update your name (patient or family).\n• Turn on your video if you'd
  like to chat.\n• Anyone who doesn't follow these rules may be removed.\n•
  Most importantly\, have fun!
X-WR-RELCALID:af741f3513ce323790fd152540737a13
X-WR-TIMEZONE:America/New_York
BEGIN:VTIMEZONE
TZID:America/New_York
BEGIN:STANDARD
TZNAME:EST
DTSTART:20251102T020000
TZOFFSETFROM:-0400
TZOFFSETTO:-0500
RDATE:20261101T020000
END:STANDARD
BEGIN:DAYLIGHT
TZNAME:EDT
DTSTART:20250309T020000
TZOFFSETFROM:-0500
TZOFFSETTO:-0400
RDATE:20260308T020000
RDATE:20270314T020000
END:DAYLIGHT
END:VTIMEZONE
BEGIN:VEVENT
UID:7781f471-0a60-460b-af0a-1dccf0935392
DTSTAMP:20260421T215740Z
DESCRIPTION:Join us for a virtual chat\, Be the Torch. Be the Light\, with 
 Ansley and Donald—a night of hope and inspiring conversations about faith.
  All faith groups are welcome.\n\nTime: 7:30 pm - 8:30 pm EST\nDate: Decem
 ber 15\, 2025\n\nHousekeeping Guidelines:\n\nThis is a safe and respectful
  space.\n• No judgment\, disrespect\, or attempts to convert others.\n• Pl
 ease update your name (patient or family).\n• Turn on your video if you'd 
 like to chat.\n• Anyone who doesn't follow these rules may be removed.\n• 
 Most importantly\, have fun!
DTSTART;TZID=America/New_York:20251215T193000
DTEND;TZID=America/New_York:20251215T203000
LOCATION:
SUMMARY:Be the Torch. Be the Light. (Faith Group)
END:VEVENT
END:VCALENDAR
